BEGIN:VCALENDAR
VERSION:2.0
PRODID:-//jEvents 2.0 for Joomla//EN
CALSCALE:GREGORIAN
METHOD:PUBLISH
BEGIN:VTIMEZONE
TZID:Europe/Berlin
BEGIN:STANDARD
DTSTART:20240115T213100
RDATE:20240331T030000
TZOFFSETFROM:+0200
TZOFFSETTO:+0100
TZNAME:Europe/Berlin CET
END:STANDARD
BEGIN:STANDARD
DTSTART:20241027T020000
RDATE:20250330T030000
TZOFFSETFROM:+0200
TZOFFSETTO:+0100
TZNAME:Europe/Berlin CET
END:STANDARD
BEGIN:STANDARD
DTSTART:20251026T020000
RDATE:20260329T030000
TZOFFSETFROM:+0200
TZOFFSETTO:+0100
TZNAME:Europe/Berlin CET
END:STANDARD
BEGIN:STANDARD
DTSTART:20261025T020000
RDATE:20270328T030000
TZOFFSETFROM:+0200
TZOFFSETTO:+0100
TZNAME:Europe/Berlin CET
END:STANDARD
BEGIN:STANDARD
DTSTART:20271031T020000
RDATE:20280326T030000
TZOFFSETFROM:+0200
TZOFFSETTO:+0100
TZNAME:Europe/Berlin CET
END:STANDARD
BEGIN:DAYLIGHT
DTSTART:20240331T030000
RDATE:20241027T020000
TZOFFSETFROM:+0100
TZOFFSETTO:+0200
TZNAME:Europe/Berlin CEST
END:DAYLIGHT
BEGIN:DAYLIGHT
DTSTART:20250330T030000
RDATE:20251026T020000
TZOFFSETFROM:+0100
TZOFFSETTO:+0200
TZNAME:Europe/Berlin CEST
END:DAYLIGHT
BEGIN:DAYLIGHT
DTSTART:20260329T030000
RDATE:20261025T020000
TZOFFSETFROM:+0100
TZOFFSETTO:+0200
TZNAME:Europe/Berlin CEST
END:DAYLIGHT
BEGIN:DAYLIGHT
DTSTART:20270328T030000
RDATE:20271031T020000
TZOFFSETFROM:+0100
TZOFFSETTO:+0200
TZNAME:Europe/Berlin CEST
END:DAYLIGHT
END:VTIMEZONE
BEGIN:VEVENT
UID:73e73a4b98a488648d106f74f2c610a1
CATEGORIES:Einsätze
CREATED:20250202T223556
SUMMARY:TH 1/Türöffnung
DESCRIPTION:Am Mittwoch, den 15.01.2025, wurden wir um 21:31 Uhr zu einer Türöffnung in
  die Breslauer Straße alarmiert.\nVor Ort trafen wir auf den Anrufer, der v
 on einer hilflosen Person in der Wohnung ausging. Aufgrund fehlender Reakti
 on und gesundheitlicher Vorerkrankungen des Bewohners wurde ein medizinisch
 er Notfall vermutet.\nBei der Erkundung stellten wir fest, dass ein Fenster
  der betroffenen Wohnung in Kippstellung war. Daraufhin wurde eine Stecklei
 ter in Stellung gebracht und die Einsatzstelle ausgeleuchtet. Parallel dazu
  bereiteten wir die Türöffnung vor. Noch während des Anleiterns öffnete der
  Bewohner allerdings selbstständig die Tür. Er war wohlauf, sodass weder ei
 n Einsatz der Feuerwehr noch des Rettungsdienstes erforderlich war.\n
X-ALT-DESC;FMTTYPE=text/html:<p>Am Mittwoch, den 15.01.2025, wurden wir um 21:31 Uhr zu einer Türöffnung
  in die Breslauer Straße alarmiert.</p><p>Vor Ort trafen wir auf den Anrufe
 r, der von einer hilflosen Person in der Wohnung ausging. Aufgrund fehlende
 r Reaktion und gesundheitlicher Vorerkrankungen des Bewohners wurde ein med
 izinischer Notfall vermutet.</p><p>Bei der Erkundung stellten wir fest, das
 s ein Fenster der betroffenen Wohnung in Kippstellung war. Daraufhin wurde 
 eine Steckleiter in Stellung gebracht und die Einsatzstelle ausgeleuchtet. 
 Parallel dazu bereiteten wir die Türöffnung vor. Noch während des Anleitern
 s öffnete der Bewohner allerdings selbstständig die Tür. Er war wohlauf, so
 dass weder ein Einsatz der Feuerwehr noch des Rettungsdienstes erforderlich
  war.</p>
DTSTAMP:20260426T005023
DTSTART;TZID=Europe/Berlin:20250115T213100
SEQUENCE:0
TRANSP:OPAQUE
END:VEVENT
END:VCALENDAR