BEGIN:VCALENDAR
VERSION:2.0
PRODID:-//jEvents 2.0 for Joomla//EN
CALSCALE:GREGORIAN
METHOD:PUBLISH
BEGIN:VTIMEZONE
TZID:Europe/Berlin
BEGIN:STANDARD
DTSTART:20250110T070400
RDATE:20250330T030000
TZOFFSETFROM:+0200
TZOFFSETTO:+0100
TZNAME:Europe/Berlin CET
END:STANDARD
BEGIN:STANDARD
DTSTART:20251026T020000
RDATE:20260329T030000
TZOFFSETFROM:+0200
TZOFFSETTO:+0100
TZNAME:Europe/Berlin CET
END:STANDARD
BEGIN:STANDARD
DTSTART:20261025T020000
RDATE:20270328T030000
TZOFFSETFROM:+0200
TZOFFSETTO:+0100
TZNAME:Europe/Berlin CET
END:STANDARD
BEGIN:STANDARD
DTSTART:20271031T020000
RDATE:20280326T030000
TZOFFSETFROM:+0200
TZOFFSETTO:+0100
TZNAME:Europe/Berlin CET
END:STANDARD
BEGIN:DAYLIGHT
DTSTART:20250330T030000
RDATE:20251026T020000
TZOFFSETFROM:+0100
TZOFFSETTO:+0200
TZNAME:Europe/Berlin CEST
END:DAYLIGHT
BEGIN:DAYLIGHT
DTSTART:20260329T030000
RDATE:20261025T020000
TZOFFSETFROM:+0100
TZOFFSETTO:+0200
TZNAME:Europe/Berlin CEST
END:DAYLIGHT
BEGIN:DAYLIGHT
DTSTART:20270328T030000
RDATE:20271031T020000
TZOFFSETFROM:+0100
TZOFFSETTO:+0200
TZNAME:Europe/Berlin CEST
END:DAYLIGHT
END:VTIMEZONE
BEGIN:VEVENT
UID:a9f40acc9fddf7610a313089965a3edc
CATEGORIES:Einsätze
CREATED:20260118T234552
SUMMARY:Brand 1 - Rauchentwicklung Freifläche
DESCRIPTION:<p>Lage: Gemeldete Rauchentwicklung mit Feuerschein auf einer Freifläche.</
 p><p>Maßnahmen &amp; Verlauf: Die Einsatzstelle wurde großflächig durch die
  Feuerwehr erkundet und erneut Kontakt zum Meldenden hergestellt. Es konnte
  weder Rauch noch Feuer festgestellt werden, es handelte sich somit um eine
 n Fehleinsatz.</p><p>Weitere Infos: Zum Zeitpunkt der Erkundung konnte ein 
 rauchender Schornstein festgestellt werden, welcher durch eine Straßenlater
 ne angeleuchtet wurde. Dies verursachte vermutlich eine optische Täuschung 
 worauf es zum Einsatz für die Feuerwehr kam.</p><p>Nichts ahnend, was uns a
 n diesem Tag noch erwarten würde…</p>
DTSTAMP:20260426T005102
DTSTART;TZID=Europe/Berlin:20260111T070400
SEQUENCE:0
TRANSP:OPAQUE
END:VEVENT
END:VCALENDAR